BEGIN:VCALENDAR
VERSION:2.0
PRODID:-//ConnecticutLifestyles.com - ECPv6.15.20//NONSGML v1.0//EN
CALSCALE:GREGORIAN
METHOD:PUBLISH
X-WR-CALNAME:ConnecticutLifestyles.com
X-ORIGINAL-URL:https://connecticutlifestyles.com
X-WR-CALDESC:Events for ConnecticutLifestyles.com
REFRESH-INTERVAL;VALUE=DURATION:PT1H
X-Robots-Tag:noindex
X-PUBLISHED-TTL:PT1H
BEGIN:VTIMEZONE
TZID:America/New_York
BEGIN:DAYLIGHT
TZOFFSETFROM:-0500
TZOFFSETTO:-0400
TZNAME:EDT
DTSTART:20250309T070000
END:DAYLIGHT
BEGIN:STANDARD
TZOFFSETFROM:-0400
TZOFFSETTO:-0500
TZNAME:EST
DTSTART:20251102T060000
END:STANDARD
BEGIN:DAYLIGHT
TZOFFSETFROM:-0500
TZOFFSETTO:-0400
TZNAME:EDT
DTSTART:20260308T070000
END:DAYLIGHT
BEGIN:STANDARD
TZOFFSETFROM:-0400
TZOFFSETTO:-0500
TZNAME:EST
DTSTART:20261101T060000
END:STANDARD
BEGIN:DAYLIGHT
TZOFFSETFROM:-0500
TZOFFSETTO:-0400
TZNAME:EDT
DTSTART:20270314T070000
END:DAYLIGHT
BEGIN:STANDARD
TZOFFSETFROM:-0400
TZOFFSETTO:-0500
TZNAME:EST
DTSTART:20271107T060000
END:STANDARD
END:VTIMEZONE
BEGIN:VEVENT
DTSTART;TZID=America/New_York:20260410T123000
DTEND;TZID=America/New_York:20260410T133000
DTSTAMP:20260420T093025
CREATED:20260317T021322Z
LAST-MODIFIED:20260317T021322Z
UID:86073-1775824200-1775827800@connecticutlifestyles.com
SUMMARY:Furniture Study Highlights Tour at Yale University Art Gallery
DESCRIPTION:A behind-the-scenes look at American design takes place on April 10\, 2026 from 12:30 pm to 1:30 pm at the Collection Studies Center\, Yale West Campus\, 900 West Campus Drive\, West Haven\, CT 06516. \nThis one-hour\, in-person tour offers access to the Leslie P. and George H. Hume American Furniture Study Center\, home to more than 1\,300 examples of American furniture and clocks spanning the 17th century to the present. Visitors will also encounter an impressive collection of contemporary wood art within this state-of-the-art facility\, which opened in 2019. \nLed by knowledgeable staff\, the tour provides insight into craftsmanship\, historical context\, and the evolution of American furniture design\, making it an engaging experience for both enthusiasts and newcomers. \nAdvance registration is required\, and space is limited. Registered guests will receive a confirmation email with directions to the site\, where free parking is available. Unregistered visitors cannot be accommodated. \nFor more information and to register\, visit artgallery.yale.edu.
URL:https://connecticutlifestyles.com/event/furniture-study-highlights-tour-at-yale-university-art-gallery-4/
LOCATION:Yale West Campus\, 900 West Campus Drive\, West Haven\, 06516\, United States
CATEGORIES:West Haven
ATTACH;FMTTYPE=image/jpeg:https://connecticutlifestyles.com/wp-content/uploads/2026/03/furniture-study-highlights-tour-at-yale-university-art-gallery.jpg
END:VEVENT
END:VCALENDAR