BEGIN:VCALENDAR
VERSION:2.0
PRODID:-//ConnecticutLifestyles.com - ECPv6.15.20//NONSGML v1.0//EN
CALSCALE:GREGORIAN
METHOD:PUBLISH
X-ORIGINAL-URL:https://connecticutlifestyles.com
X-WR-CALDESC:Events for ConnecticutLifestyles.com
REFRESH-INTERVAL;VALUE=DURATION:PT1H
X-Robots-Tag:noindex
X-PUBLISHED-TTL:PT1H
BEGIN:VTIMEZONE
TZID:America/New_York
BEGIN:DAYLIGHT
TZOFFSETFROM:-0500
TZOFFSETTO:-0400
TZNAME:EDT
DTSTART:20250309T070000
END:DAYLIGHT
BEGIN:STANDARD
TZOFFSETFROM:-0400
TZOFFSETTO:-0500
TZNAME:EST
DTSTART:20251102T060000
END:STANDARD
BEGIN:DAYLIGHT
TZOFFSETFROM:-0500
TZOFFSETTO:-0400
TZNAME:EDT
DTSTART:20260308T070000
END:DAYLIGHT
BEGIN:STANDARD
TZOFFSETFROM:-0400
TZOFFSETTO:-0500
TZNAME:EST
DTSTART:20261101T060000
END:STANDARD
BEGIN:DAYLIGHT
TZOFFSETFROM:-0500
TZOFFSETTO:-0400
TZNAME:EDT
DTSTART:20270314T070000
END:DAYLIGHT
BEGIN:STANDARD
TZOFFSETFROM:-0400
TZOFFSETTO:-0500
TZNAME:EST
DTSTART:20271107T060000
END:STANDARD
END:VTIMEZONE
BEGIN:VEVENT
DTSTART;TZID=America/New_York:20260423T180000
DTEND;TZID=America/New_York:20260423T210000
DTSTAMP:20260420T131840
CREATED:20250523T031909Z
LAST-MODIFIED:20250523T031909Z
UID:78762-1776967200-1776978000@connecticutlifestyles.com
SUMMARY:Paintball Thursday League Night at Powder Ridge Mountain Park Resort
DESCRIPTION:Paintball enthusiasts can gear up for adrenaline-filled Thursday evenings during Paintball League Night at Powder Ridge Mountain Park Resort in Middlefield. Held weekly from 6 pm to 9 pm\, this five-week series offers players a chance to compete in NXL-style tournament play with rotating teams formed on-site each night. \nPlayers are welcome to attend solo or with friends and can participate on any or all of the five nights. Each participant will fill out a player card indicating their skill level and preferred position\, which helps team captains balance squads for competitive play. All skill levels are encouraged to join the action. \nAdmission is $25 per night or included with a season pass. Players must bring their own .68 caliber paintball equipment. Teams and individuals earn points each night\, and the top scorer at the end of the series will receive a prize. \nAfter the games\, players are invited to relax and refuel at Fire at The Ridge. Season pass holders enjoy 15% off their food bill (excluding alcohol). \nPowder Ridge Mountain Park Resort is located at 99 Powder Hill Road\, Middlefield\, CT. For more details or to purchase a season pass\, visit powderridgepark.com.
URL:https://connecticutlifestyles.com/event/paintball-thursday-league-night-at-powder-ridge-mountain-park-resort/2026-04-23/
LOCATION:Powder Ridge Mountain Park & Resort\, 99 Powder Hill Road\, Middlefield\, CT\, 06455
CATEGORIES:Middlefield
ATTACH;FMTTYPE=image/jpeg:https://connecticutlifestyles.com/wp-content/uploads/2025/05/paintball-thursday-league-night-at-powder-ridge-mountain-park-resort.jpg
GEO:41.5037337;-72.7298984
X-APPLE-STRUCTURED-LOCATION;VALUE=URI;X-ADDRESS=Powder Ridge Mountain Park & Resort 99 Powder Hill Road Middlefield CT 06455;X-APPLE-RADIUS=500;X-TITLE=99 Powder Hill Road:geo:-72.7298984,41.5037337
END:VEVENT
BEGIN:VEVENT
DTSTART;TZID=America/New_York:20260427T090000
DTEND;TZID=America/New_York:20260427T140000
DTSTAMP:20260420T131840
CREATED:20260406T080639Z
LAST-MODIFIED:20260406T080639Z
UID:86341-1777280400-1777298400@connecticutlifestyles.com
SUMMARY:Community Tag Sale at Lyman Orchards
DESCRIPTION:A large outdoor tag sale event takes place on April 27\, 2025 from 9 am to 2 pm at Lyman Orchards Apple Barrel Farm Market grounds\, 32 Reeds Gap Road\, Middlefield\, CT 06455. \nThis community-focused tag sale offers individuals the opportunity to declutter and sell items in a shared\, high-traffic setting. Participants can bring goods from home—ranging from household items to clothing and décor—and keep all profits from their sales. The event is designed specifically for residential sellers\, with no commercial vendors permitted. \nVendor setup begins at 7:30 am\, with all participants required to bring their own tables\, chairs\, and display materials. A $20 registration fee applies\, with proceeds benefiting Middlefield-Durham community organizations. \nThe event takes place behind the Apple Barrel Farm Market on the gravel tent pad near the parking area. All unsold items must be removed at the end of the day\, and restrictions apply on prohibited items\, including hazardous materials and food or beverage sales. \nFor more information or to register\, contact Nina Peach at npeach@lymanorchards.com or visit lymanorchards.com.
URL:https://connecticutlifestyles.com/event/community-tag-sale-at-lyman-orchards-2/
LOCATION:Lyman Orchards\, 700 Main Street\, Middlefield\, CT\, 06455
CATEGORIES:Middlefield
ATTACH;FMTTYPE=image/jpeg:https://connecticutlifestyles.com/wp-content/uploads/2026/04/community-tag-sale-at-lyman-orchards.jpg
GEO:41.4968134;-72.7187845
X-APPLE-STRUCTURED-LOCATION;VALUE=URI;X-ADDRESS=Lyman Orchards 700 Main Street Middlefield CT 06455;X-APPLE-RADIUS=500;X-TITLE=700 Main Street:geo:-72.7187845,41.4968134
END:VEVENT
BEGIN:VEVENT
DTSTART;TZID=America/New_York:20260430T180000
DTEND;TZID=America/New_York:20260430T210000
DTSTAMP:20260420T131840
CREATED:20250523T031909Z
LAST-MODIFIED:20250523T031909Z
UID:78763-1777572000-1777582800@connecticutlifestyles.com
SUMMARY:Paintball Thursday League Night at Powder Ridge Mountain Park Resort
DESCRIPTION:Paintball enthusiasts can gear up for adrenaline-filled Thursday evenings during Paintball League Night at Powder Ridge Mountain Park Resort in Middlefield. Held weekly from 6 pm to 9 pm\, this five-week series offers players a chance to compete in NXL-style tournament play with rotating teams formed on-site each night. \nPlayers are welcome to attend solo or with friends and can participate on any or all of the five nights. Each participant will fill out a player card indicating their skill level and preferred position\, which helps team captains balance squads for competitive play. All skill levels are encouraged to join the action. \nAdmission is $25 per night or included with a season pass. Players must bring their own .68 caliber paintball equipment. Teams and individuals earn points each night\, and the top scorer at the end of the series will receive a prize. \nAfter the games\, players are invited to relax and refuel at Fire at The Ridge. Season pass holders enjoy 15% off their food bill (excluding alcohol). \nPowder Ridge Mountain Park Resort is located at 99 Powder Hill Road\, Middlefield\, CT. For more details or to purchase a season pass\, visit powderridgepark.com.
URL:https://connecticutlifestyles.com/event/paintball-thursday-league-night-at-powder-ridge-mountain-park-resort/2026-04-30/
LOCATION:Powder Ridge Mountain Park & Resort\, 99 Powder Hill Road\, Middlefield\, CT\, 06455
CATEGORIES:Middlefield
ATTACH;FMTTYPE=image/jpeg:https://connecticutlifestyles.com/wp-content/uploads/2025/05/paintball-thursday-league-night-at-powder-ridge-mountain-park-resort.jpg
GEO:41.5037337;-72.7298984
X-APPLE-STRUCTURED-LOCATION;VALUE=URI;X-ADDRESS=Powder Ridge Mountain Park & Resort 99 Powder Hill Road Middlefield CT 06455;X-APPLE-RADIUS=500;X-TITLE=99 Powder Hill Road:geo:-72.7298984,41.5037337
END:VEVENT
BEGIN:VEVENT
DTSTART;TZID=America/New_York:20260507T180000
DTEND;TZID=America/New_York:20260507T210000
DTSTAMP:20260420T131840
CREATED:20250523T031909Z
LAST-MODIFIED:20250523T031909Z
UID:78764-1778176800-1778187600@connecticutlifestyles.com
SUMMARY:Paintball Thursday League Night at Powder Ridge Mountain Park Resort
DESCRIPTION:Paintball enthusiasts can gear up for adrenaline-filled Thursday evenings during Paintball League Night at Powder Ridge Mountain Park Resort in Middlefield. Held weekly from 6 pm to 9 pm\, this five-week series offers players a chance to compete in NXL-style tournament play with rotating teams formed on-site each night. \nPlayers are welcome to attend solo or with friends and can participate on any or all of the five nights. Each participant will fill out a player card indicating their skill level and preferred position\, which helps team captains balance squads for competitive play. All skill levels are encouraged to join the action. \nAdmission is $25 per night or included with a season pass. Players must bring their own .68 caliber paintball equipment. Teams and individuals earn points each night\, and the top scorer at the end of the series will receive a prize. \nAfter the games\, players are invited to relax and refuel at Fire at The Ridge. Season pass holders enjoy 15% off their food bill (excluding alcohol). \nPowder Ridge Mountain Park Resort is located at 99 Powder Hill Road\, Middlefield\, CT. For more details or to purchase a season pass\, visit powderridgepark.com.
URL:https://connecticutlifestyles.com/event/paintball-thursday-league-night-at-powder-ridge-mountain-park-resort/2026-05-07/
LOCATION:Powder Ridge Mountain Park & Resort\, 99 Powder Hill Road\, Middlefield\, CT\, 06455
CATEGORIES:Middlefield
ATTACH;FMTTYPE=image/jpeg:https://connecticutlifestyles.com/wp-content/uploads/2025/05/paintball-thursday-league-night-at-powder-ridge-mountain-park-resort.jpg
GEO:41.5037337;-72.7298984
X-APPLE-STRUCTURED-LOCATION;VALUE=URI;X-ADDRESS=Powder Ridge Mountain Park & Resort 99 Powder Hill Road Middlefield CT 06455;X-APPLE-RADIUS=500;X-TITLE=99 Powder Hill Road:geo:-72.7298984,41.5037337
END:VEVENT
BEGIN:VEVENT
DTSTART;TZID=America/New_York:20260514T180000
DTEND;TZID=America/New_York:20260514T210000
DTSTAMP:20260420T131840
CREATED:20250523T031909Z
LAST-MODIFIED:20250523T031909Z
UID:78765-1778781600-1778792400@connecticutlifestyles.com
SUMMARY:Paintball Thursday League Night at Powder Ridge Mountain Park Resort
DESCRIPTION:Paintball enthusiasts can gear up for adrenaline-filled Thursday evenings during Paintball League Night at Powder Ridge Mountain Park Resort in Middlefield. Held weekly from 6 pm to 9 pm\, this five-week series offers players a chance to compete in NXL-style tournament play with rotating teams formed on-site each night. \nPlayers are welcome to attend solo or with friends and can participate on any or all of the five nights. Each participant will fill out a player card indicating their skill level and preferred position\, which helps team captains balance squads for competitive play. All skill levels are encouraged to join the action. \nAdmission is $25 per night or included with a season pass. Players must bring their own .68 caliber paintball equipment. Teams and individuals earn points each night\, and the top scorer at the end of the series will receive a prize. \nAfter the games\, players are invited to relax and refuel at Fire at The Ridge. Season pass holders enjoy 15% off their food bill (excluding alcohol). \nPowder Ridge Mountain Park Resort is located at 99 Powder Hill Road\, Middlefield\, CT. For more details or to purchase a season pass\, visit powderridgepark.com.
URL:https://connecticutlifestyles.com/event/paintball-thursday-league-night-at-powder-ridge-mountain-park-resort/2026-05-14/
LOCATION:Powder Ridge Mountain Park & Resort\, 99 Powder Hill Road\, Middlefield\, CT\, 06455
CATEGORIES:Middlefield
ATTACH;FMTTYPE=image/jpeg:https://connecticutlifestyles.com/wp-content/uploads/2025/05/paintball-thursday-league-night-at-powder-ridge-mountain-park-resort.jpg
GEO:41.5037337;-72.7298984
X-APPLE-STRUCTURED-LOCATION;VALUE=URI;X-ADDRESS=Powder Ridge Mountain Park & Resort 99 Powder Hill Road Middlefield CT 06455;X-APPLE-RADIUS=500;X-TITLE=99 Powder Hill Road:geo:-72.7298984,41.5037337
END:VEVENT
BEGIN:VEVENT
DTSTART;TZID=America/New_York:20260521T180000
DTEND;TZID=America/New_York:20260521T210000
DTSTAMP:20260420T131840
CREATED:20250523T031909Z
LAST-MODIFIED:20250523T031909Z
UID:78766-1779386400-1779397200@connecticutlifestyles.com
SUMMARY:Paintball Thursday League Night at Powder Ridge Mountain Park Resort
DESCRIPTION:Paintball enthusiasts can gear up for adrenaline-filled Thursday evenings during Paintball League Night at Powder Ridge Mountain Park Resort in Middlefield. Held weekly from 6 pm to 9 pm\, this five-week series offers players a chance to compete in NXL-style tournament play with rotating teams formed on-site each night. \nPlayers are welcome to attend solo or with friends and can participate on any or all of the five nights. Each participant will fill out a player card indicating their skill level and preferred position\, which helps team captains balance squads for competitive play. All skill levels are encouraged to join the action. \nAdmission is $25 per night or included with a season pass. Players must bring their own .68 caliber paintball equipment. Teams and individuals earn points each night\, and the top scorer at the end of the series will receive a prize. \nAfter the games\, players are invited to relax and refuel at Fire at The Ridge. Season pass holders enjoy 15% off their food bill (excluding alcohol). \nPowder Ridge Mountain Park Resort is located at 99 Powder Hill Road\, Middlefield\, CT. For more details or to purchase a season pass\, visit powderridgepark.com.
URL:https://connecticutlifestyles.com/event/paintball-thursday-league-night-at-powder-ridge-mountain-park-resort/2026-05-21/
LOCATION:Powder Ridge Mountain Park & Resort\, 99 Powder Hill Road\, Middlefield\, CT\, 06455
CATEGORIES:Middlefield
ATTACH;FMTTYPE=image/jpeg:https://connecticutlifestyles.com/wp-content/uploads/2025/05/paintball-thursday-league-night-at-powder-ridge-mountain-park-resort.jpg
GEO:41.5037337;-72.7298984
X-APPLE-STRUCTURED-LOCATION;VALUE=URI;X-ADDRESS=Powder Ridge Mountain Park & Resort 99 Powder Hill Road Middlefield CT 06455;X-APPLE-RADIUS=500;X-TITLE=99 Powder Hill Road:geo:-72.7298984,41.5037337
END:VEVENT
BEGIN:VEVENT
DTSTART;TZID=America/New_York:20260528T180000
DTEND;TZID=America/New_York:20260528T210000
DTSTAMP:20260420T131840
CREATED:20250523T031909Z
LAST-MODIFIED:20250523T031909Z
UID:78767-1779991200-1780002000@connecticutlifestyles.com
SUMMARY:Paintball Thursday League Night at Powder Ridge Mountain Park Resort
DESCRIPTION:Paintball enthusiasts can gear up for adrenaline-filled Thursday evenings during Paintball League Night at Powder Ridge Mountain Park Resort in Middlefield. Held weekly from 6 pm to 9 pm\, this five-week series offers players a chance to compete in NXL-style tournament play with rotating teams formed on-site each night. \nPlayers are welcome to attend solo or with friends and can participate on any or all of the five nights. Each participant will fill out a player card indicating their skill level and preferred position\, which helps team captains balance squads for competitive play. All skill levels are encouraged to join the action. \nAdmission is $25 per night or included with a season pass. Players must bring their own .68 caliber paintball equipment. Teams and individuals earn points each night\, and the top scorer at the end of the series will receive a prize. \nAfter the games\, players are invited to relax and refuel at Fire at The Ridge. Season pass holders enjoy 15% off their food bill (excluding alcohol). \nPowder Ridge Mountain Park Resort is located at 99 Powder Hill Road\, Middlefield\, CT. For more details or to purchase a season pass\, visit powderridgepark.com.
URL:https://connecticutlifestyles.com/event/paintball-thursday-league-night-at-powder-ridge-mountain-park-resort/2026-05-28/
LOCATION:Powder Ridge Mountain Park & Resort\, 99 Powder Hill Road\, Middlefield\, CT\, 06455
CATEGORIES:Middlefield
ATTACH;FMTTYPE=image/jpeg:https://connecticutlifestyles.com/wp-content/uploads/2025/05/paintball-thursday-league-night-at-powder-ridge-mountain-park-resort.jpg
GEO:41.5037337;-72.7298984
X-APPLE-STRUCTURED-LOCATION;VALUE=URI;X-ADDRESS=Powder Ridge Mountain Park & Resort 99 Powder Hill Road Middlefield CT 06455;X-APPLE-RADIUS=500;X-TITLE=99 Powder Hill Road:geo:-72.7298984,41.5037337
END:VEVENT
END:VCALENDAR