BEGIN:VCALENDAR
VERSION:2.0
PRODID:-//ConnecticutLifestyles.com - ECPv6.15.20//NONSGML v1.0//EN
CALSCALE:GREGORIAN
METHOD:PUBLISH
X-ORIGINAL-URL:https://connecticutlifestyles.com
X-WR-CALDESC:Events for ConnecticutLifestyles.com
REFRESH-INTERVAL;VALUE=DURATION:PT1H
X-Robots-Tag:noindex
X-PUBLISHED-TTL:PT1H
BEGIN:VTIMEZONE
TZID:America/New_York
BEGIN:DAYLIGHT
TZOFFSETFROM:-0500
TZOFFSETTO:-0400
TZNAME:EDT
DTSTART:20240310T070000
END:DAYLIGHT
BEGIN:STANDARD
TZOFFSETFROM:-0400
TZOFFSETTO:-0500
TZNAME:EST
DTSTART:20241103T060000
END:STANDARD
BEGIN:DAYLIGHT
TZOFFSETFROM:-0500
TZOFFSETTO:-0400
TZNAME:EDT
DTSTART:20250309T070000
END:DAYLIGHT
BEGIN:STANDARD
TZOFFSETFROM:-0400
TZOFFSETTO:-0500
TZNAME:EST
DTSTART:20251102T060000
END:STANDARD
BEGIN:DAYLIGHT
TZOFFSETFROM:-0500
TZOFFSETTO:-0400
TZNAME:EDT
DTSTART:20260308T070000
END:DAYLIGHT
BEGIN:STANDARD
TZOFFSETFROM:-0400
TZOFFSETTO:-0500
TZNAME:EST
DTSTART:20261101T060000
END:STANDARD
END:VTIMEZONE
BEGIN:VEVENT
DTSTART;TZID=America/New_York:20251230T120000
DTEND;TZID=America/New_York:20251230T130000
DTSTAMP:20260421T043541
CREATED:20251117T234330Z
LAST-MODIFIED:20251117T234353Z
UID:84701-1767096000-1767099600@connecticutlifestyles.com
SUMMARY:Yoga at the Mattatuck Museum
DESCRIPTION:Yoga sessions at the Mattatuck Museum offer a peaceful midday break inside the galleries. Led by experienced registered yoga teacher Alex Capaldo\, this all-levels flow class is designed for participants of every experience level. Sessions take place from 12 pm to 1 pm on November 18 and 25\, and on December 2\, 9\, 16\, 23\, and 30\, 2025. Admission is free\, and advance registration is encouraged. \nMattatuck Museum\, 144 West Main Street\, Waterbury\, CT 06702\nFor more information or to register\, visit mattmuseum.org.
URL:https://connecticutlifestyles.com/event/yoga-at-the-mattatuck-museum/2025-12-30/
LOCATION:Mattatuck Museum\, 63 Prospect Street\, Waterbury\, CT\, 06702\, United States
CATEGORIES:Waterbury
ATTACH;FMTTYPE=image/jpeg:https://connecticutlifestyles.com/wp-content/uploads/2025/06/yoga-on-the-terrace-at-mattatuck-museum.jpg
END:VEVENT
BEGIN:VEVENT
DTSTART;TZID=America/New_York:20251223T120000
DTEND;TZID=America/New_York:20251223T130000
DTSTAMP:20260421T043541
CREATED:20251117T234330Z
LAST-MODIFIED:20251117T234352Z
UID:84700-1766491200-1766494800@connecticutlifestyles.com
SUMMARY:Yoga at the Mattatuck Museum
DESCRIPTION:Yoga sessions at the Mattatuck Museum offer a peaceful midday break inside the galleries. Led by experienced registered yoga teacher Alex Capaldo\, this all-levels flow class is designed for participants of every experience level. Sessions take place from 12 pm to 1 pm on November 18 and 25\, and on December 2\, 9\, 16\, 23\, and 30\, 2025. Admission is free\, and advance registration is encouraged. \nMattatuck Museum\, 144 West Main Street\, Waterbury\, CT 06702\nFor more information or to register\, visit mattmuseum.org.
URL:https://connecticutlifestyles.com/event/yoga-at-the-mattatuck-museum/2025-12-23/
LOCATION:Mattatuck Museum\, 63 Prospect Street\, Waterbury\, CT\, 06702\, United States
CATEGORIES:Waterbury
ATTACH;FMTTYPE=image/jpeg:https://connecticutlifestyles.com/wp-content/uploads/2025/06/yoga-on-the-terrace-at-mattatuck-museum.jpg
END:VEVENT
BEGIN:VEVENT
DTSTART;TZID=America/New_York:20251216T120000
DTEND;TZID=America/New_York:20251216T130000
DTSTAMP:20260421T043541
CREATED:20251117T234330Z
LAST-MODIFIED:20251117T234351Z
UID:84699-1765886400-1765890000@connecticutlifestyles.com
SUMMARY:Yoga at the Mattatuck Museum
DESCRIPTION:Yoga sessions at the Mattatuck Museum offer a peaceful midday break inside the galleries. Led by experienced registered yoga teacher Alex Capaldo\, this all-levels flow class is designed for participants of every experience level. Sessions take place from 12 pm to 1 pm on November 18 and 25\, and on December 2\, 9\, 16\, 23\, and 30\, 2025. Admission is free\, and advance registration is encouraged. \nMattatuck Museum\, 144 West Main Street\, Waterbury\, CT 06702\nFor more information or to register\, visit mattmuseum.org.
URL:https://connecticutlifestyles.com/event/yoga-at-the-mattatuck-museum/2025-12-16/
LOCATION:Mattatuck Museum\, 63 Prospect Street\, Waterbury\, CT\, 06702\, United States
CATEGORIES:Waterbury
ATTACH;FMTTYPE=image/jpeg:https://connecticutlifestyles.com/wp-content/uploads/2025/06/yoga-on-the-terrace-at-mattatuck-museum.jpg
END:VEVENT
BEGIN:VEVENT
DTSTART;TZID=America/New_York:20251209T120000
DTEND;TZID=America/New_York:20251209T130000
DTSTAMP:20260421T043541
CREATED:20251117T234330Z
LAST-MODIFIED:20251117T234350Z
UID:84698-1765281600-1765285200@connecticutlifestyles.com
SUMMARY:Yoga at the Mattatuck Museum
DESCRIPTION:Yoga sessions at the Mattatuck Museum offer a peaceful midday break inside the galleries. Led by experienced registered yoga teacher Alex Capaldo\, this all-levels flow class is designed for participants of every experience level. Sessions take place from 12 pm to 1 pm on November 18 and 25\, and on December 2\, 9\, 16\, 23\, and 30\, 2025. Admission is free\, and advance registration is encouraged. \nMattatuck Museum\, 144 West Main Street\, Waterbury\, CT 06702\nFor more information or to register\, visit mattmuseum.org.
URL:https://connecticutlifestyles.com/event/yoga-at-the-mattatuck-museum/2025-12-09/
LOCATION:Mattatuck Museum\, 63 Prospect Street\, Waterbury\, CT\, 06702\, United States
CATEGORIES:Waterbury
ATTACH;FMTTYPE=image/jpeg:https://connecticutlifestyles.com/wp-content/uploads/2025/06/yoga-on-the-terrace-at-mattatuck-museum.jpg
END:VEVENT
BEGIN:VEVENT
DTSTART;TZID=America/New_York:20251202T120000
DTEND;TZID=America/New_York:20251202T130000
DTSTAMP:20260421T043541
CREATED:20251117T234330Z
LAST-MODIFIED:20251117T234350Z
UID:84697-1764676800-1764680400@connecticutlifestyles.com
SUMMARY:Yoga at the Mattatuck Museum
DESCRIPTION:Yoga sessions at the Mattatuck Museum offer a peaceful midday break inside the galleries. Led by experienced registered yoga teacher Alex Capaldo\, this all-levels flow class is designed for participants of every experience level. Sessions take place from 12 pm to 1 pm on November 18 and 25\, and on December 2\, 9\, 16\, 23\, and 30\, 2025. Admission is free\, and advance registration is encouraged. \nMattatuck Museum\, 144 West Main Street\, Waterbury\, CT 06702\nFor more information or to register\, visit mattmuseum.org.
URL:https://connecticutlifestyles.com/event/yoga-at-the-mattatuck-museum/2025-12-02/
LOCATION:Mattatuck Museum\, 63 Prospect Street\, Waterbury\, CT\, 06702\, United States
CATEGORIES:Waterbury
ATTACH;FMTTYPE=image/jpeg:https://connecticutlifestyles.com/wp-content/uploads/2025/06/yoga-on-the-terrace-at-mattatuck-museum.jpg
END:VEVENT
BEGIN:VEVENT
DTSTART;TZID=America/New_York:20251125T120000
DTEND;TZID=America/New_York:20251125T130000
DTSTAMP:20260421T043541
CREATED:20251117T234330Z
LAST-MODIFIED:20251117T234349Z
UID:84696-1764072000-1764075600@connecticutlifestyles.com
SUMMARY:Yoga at the Mattatuck Museum
DESCRIPTION:Yoga sessions at the Mattatuck Museum offer a peaceful midday break inside the galleries. Led by experienced registered yoga teacher Alex Capaldo\, this all-levels flow class is designed for participants of every experience level. Sessions take place from 12 pm to 1 pm on November 18 and 25\, and on December 2\, 9\, 16\, 23\, and 30\, 2025. Admission is free\, and advance registration is encouraged. \nMattatuck Museum\, 144 West Main Street\, Waterbury\, CT 06702\nFor more information or to register\, visit mattmuseum.org.
URL:https://connecticutlifestyles.com/event/yoga-at-the-mattatuck-museum/2025-11-25/
LOCATION:Mattatuck Museum\, 63 Prospect Street\, Waterbury\, CT\, 06702\, United States
CATEGORIES:Waterbury
ATTACH;FMTTYPE=image/jpeg:https://connecticutlifestyles.com/wp-content/uploads/2025/06/yoga-on-the-terrace-at-mattatuck-museum.jpg
END:VEVENT
BEGIN:VEVENT
DTSTART;TZID=America/New_York:20251118T120000
DTEND;TZID=America/New_York:20251118T130000
DTSTAMP:20260421T043541
CREATED:20251117T234330Z
LAST-MODIFIED:20251117T234349Z
UID:84695-1763467200-1763470800@connecticutlifestyles.com
SUMMARY:Yoga at the Mattatuck Museum
DESCRIPTION:Yoga sessions at the Mattatuck Museum offer a peaceful midday break inside the galleries. Led by experienced registered yoga teacher Alex Capaldo\, this all-levels flow class is designed for participants of every experience level. Sessions take place from 12 pm to 1 pm on November 18 and 25\, and on December 2\, 9\, 16\, 23\, and 30\, 2025. Admission is free\, and advance registration is encouraged. \nMattatuck Museum\, 144 West Main Street\, Waterbury\, CT 06702\nFor more information or to register\, visit mattmuseum.org.
URL:https://connecticutlifestyles.com/event/yoga-at-the-mattatuck-museum/2025-11-18/
LOCATION:Mattatuck Museum\, 63 Prospect Street\, Waterbury\, CT\, 06702\, United States
CATEGORIES:Waterbury
ATTACH;FMTTYPE=image/jpeg:https://connecticutlifestyles.com/wp-content/uploads/2025/06/yoga-on-the-terrace-at-mattatuck-museum.jpg
END:VEVENT
END:VCALENDAR