BEGIN:VCALENDAR
VERSION:2.0
PRODID:-//ConnecticutLifestyles.com - ECPv6.15.20//NONSGML v1.0//EN
CALSCALE:GREGORIAN
METHOD:PUBLISH
X-ORIGINAL-URL:https://connecticutlifestyles.com
X-WR-CALDESC:Events for ConnecticutLifestyles.com
REFRESH-INTERVAL;VALUE=DURATION:PT1H
X-Robots-Tag:noindex
X-PUBLISHED-TTL:PT1H
BEGIN:VTIMEZONE
TZID:America/New_York
BEGIN:DAYLIGHT
TZOFFSETFROM:-0500
TZOFFSETTO:-0400
TZNAME:EDT
DTSTART:20240310T070000
END:DAYLIGHT
BEGIN:STANDARD
TZOFFSETFROM:-0400
TZOFFSETTO:-0500
TZNAME:EST
DTSTART:20241103T060000
END:STANDARD
BEGIN:DAYLIGHT
TZOFFSETFROM:-0500
TZOFFSETTO:-0400
TZNAME:EDT
DTSTART:20250309T070000
END:DAYLIGHT
BEGIN:STANDARD
TZOFFSETFROM:-0400
TZOFFSETTO:-0500
TZNAME:EST
DTSTART:20251102T060000
END:STANDARD
BEGIN:DAYLIGHT
TZOFFSETFROM:-0500
TZOFFSETTO:-0400
TZNAME:EDT
DTSTART:20260308T070000
END:DAYLIGHT
BEGIN:STANDARD
TZOFFSETFROM:-0400
TZOFFSETTO:-0500
TZNAME:EST
DTSTART:20261101T060000
END:STANDARD
END:VTIMEZONE
BEGIN:VEVENT
DTSTART;TZID=America/New_York:20251004T100000
DTEND;TZID=America/New_York:20251004T130000
DTSTAMP:20260421T125637
CREATED:20250616T085111Z
LAST-MODIFIED:20250616T085111Z
UID:79333-1759572000-1759582800@connecticutlifestyles.com
SUMMARY:The Bristol Farmers Market at 10 Main Street
DESCRIPTION:The Bristol Farmers Market returns for the 2025 season\, offering fresh\, locally grown food and handcrafted products each Saturday from June 21 through October 4. Operating from 10:00 a.m. to 1:00 p.m.\, the market takes place in the parking lot at 10 Main Street in Bristol\, CT. \nOrganized by The Bristol Farmers Market\, Inc. and supported by a dedicated board and volunteers\, the market is committed to building a sustainable platform that connects residents with local farmers and producers. Shoppers can expect a vibrant atmosphere featuring seasonal produce\, specialty goods\, and community-focused engagement. \nAdmission is free and open to all. For updates and vendor information\, visit thebristolfarmersmarket.com or follow the market on social media.
URL:https://connecticutlifestyles.com/event/the-bristol-farmers-market-at-10-main-street/2025-10-04/
LOCATION:Bristol Farmers Market\, 10 Main St.\, Bristol\, 06010\, United States
CATEGORIES:Bristol
ATTACH;FMTTYPE=image/jpeg:https://connecticutlifestyles.com/wp-content/uploads/2025/06/the-bristol-farmers-market-at-10-main-street.jpg
END:VEVENT
BEGIN:VEVENT
DTSTART;TZID=America/New_York:20250927T100000
DTEND;TZID=America/New_York:20250927T130000
DTSTAMP:20260421T125637
CREATED:20250616T085111Z
LAST-MODIFIED:20250616T085111Z
UID:79332-1758967200-1758978000@connecticutlifestyles.com
SUMMARY:The Bristol Farmers Market at 10 Main Street
DESCRIPTION:The Bristol Farmers Market returns for the 2025 season\, offering fresh\, locally grown food and handcrafted products each Saturday from June 21 through October 4. Operating from 10:00 a.m. to 1:00 p.m.\, the market takes place in the parking lot at 10 Main Street in Bristol\, CT. \nOrganized by The Bristol Farmers Market\, Inc. and supported by a dedicated board and volunteers\, the market is committed to building a sustainable platform that connects residents with local farmers and producers. Shoppers can expect a vibrant atmosphere featuring seasonal produce\, specialty goods\, and community-focused engagement. \nAdmission is free and open to all. For updates and vendor information\, visit thebristolfarmersmarket.com or follow the market on social media.
URL:https://connecticutlifestyles.com/event/the-bristol-farmers-market-at-10-main-street/2025-09-27/
LOCATION:Bristol Farmers Market\, 10 Main St.\, Bristol\, 06010\, United States
CATEGORIES:Bristol
ATTACH;FMTTYPE=image/jpeg:https://connecticutlifestyles.com/wp-content/uploads/2025/06/the-bristol-farmers-market-at-10-main-street.jpg
END:VEVENT
BEGIN:VEVENT
DTSTART;TZID=America/New_York:20250920T100000
DTEND;TZID=America/New_York:20250920T130000
DTSTAMP:20260421T125637
CREATED:20250616T085111Z
LAST-MODIFIED:20250616T085111Z
UID:79331-1758362400-1758373200@connecticutlifestyles.com
SUMMARY:The Bristol Farmers Market at 10 Main Street
DESCRIPTION:The Bristol Farmers Market returns for the 2025 season\, offering fresh\, locally grown food and handcrafted products each Saturday from June 21 through October 4. Operating from 10:00 a.m. to 1:00 p.m.\, the market takes place in the parking lot at 10 Main Street in Bristol\, CT. \nOrganized by The Bristol Farmers Market\, Inc. and supported by a dedicated board and volunteers\, the market is committed to building a sustainable platform that connects residents with local farmers and producers. Shoppers can expect a vibrant atmosphere featuring seasonal produce\, specialty goods\, and community-focused engagement. \nAdmission is free and open to all. For updates and vendor information\, visit thebristolfarmersmarket.com or follow the market on social media.
URL:https://connecticutlifestyles.com/event/the-bristol-farmers-market-at-10-main-street/2025-09-20/
LOCATION:Bristol Farmers Market\, 10 Main St.\, Bristol\, 06010\, United States
CATEGORIES:Bristol
ATTACH;FMTTYPE=image/jpeg:https://connecticutlifestyles.com/wp-content/uploads/2025/06/the-bristol-farmers-market-at-10-main-street.jpg
END:VEVENT
BEGIN:VEVENT
DTSTART;TZID=America/New_York:20250913T100000
DTEND;TZID=America/New_York:20250913T130000
DTSTAMP:20260421T125637
CREATED:20250616T085111Z
LAST-MODIFIED:20250616T085111Z
UID:79330-1757757600-1757768400@connecticutlifestyles.com
SUMMARY:The Bristol Farmers Market at 10 Main Street
DESCRIPTION:The Bristol Farmers Market returns for the 2025 season\, offering fresh\, locally grown food and handcrafted products each Saturday from June 21 through October 4. Operating from 10:00 a.m. to 1:00 p.m.\, the market takes place in the parking lot at 10 Main Street in Bristol\, CT. \nOrganized by The Bristol Farmers Market\, Inc. and supported by a dedicated board and volunteers\, the market is committed to building a sustainable platform that connects residents with local farmers and producers. Shoppers can expect a vibrant atmosphere featuring seasonal produce\, specialty goods\, and community-focused engagement. \nAdmission is free and open to all. For updates and vendor information\, visit thebristolfarmersmarket.com or follow the market on social media.
URL:https://connecticutlifestyles.com/event/the-bristol-farmers-market-at-10-main-street/2025-09-13/
LOCATION:Bristol Farmers Market\, 10 Main St.\, Bristol\, 06010\, United States
CATEGORIES:Bristol
ATTACH;FMTTYPE=image/jpeg:https://connecticutlifestyles.com/wp-content/uploads/2025/06/the-bristol-farmers-market-at-10-main-street.jpg
END:VEVENT
BEGIN:VEVENT
DTSTART;TZID=America/New_York:20250906T100000
DTEND;TZID=America/New_York:20250906T130000
DTSTAMP:20260421T125637
CREATED:20250616T085111Z
LAST-MODIFIED:20250616T085111Z
UID:79329-1757152800-1757163600@connecticutlifestyles.com
SUMMARY:The Bristol Farmers Market at 10 Main Street
DESCRIPTION:The Bristol Farmers Market returns for the 2025 season\, offering fresh\, locally grown food and handcrafted products each Saturday from June 21 through October 4. Operating from 10:00 a.m. to 1:00 p.m.\, the market takes place in the parking lot at 10 Main Street in Bristol\, CT. \nOrganized by The Bristol Farmers Market\, Inc. and supported by a dedicated board and volunteers\, the market is committed to building a sustainable platform that connects residents with local farmers and producers. Shoppers can expect a vibrant atmosphere featuring seasonal produce\, specialty goods\, and community-focused engagement. \nAdmission is free and open to all. For updates and vendor information\, visit thebristolfarmersmarket.com or follow the market on social media.
URL:https://connecticutlifestyles.com/event/the-bristol-farmers-market-at-10-main-street/2025-09-06/
LOCATION:Bristol Farmers Market\, 10 Main St.\, Bristol\, 06010\, United States
CATEGORIES:Bristol
ATTACH;FMTTYPE=image/jpeg:https://connecticutlifestyles.com/wp-content/uploads/2025/06/the-bristol-farmers-market-at-10-main-street.jpg
END:VEVENT
BEGIN:VEVENT
DTSTART;TZID=America/New_York:20250830T100000
DTEND;TZID=America/New_York:20250830T130000
DTSTAMP:20260421T125638
CREATED:20250616T085111Z
LAST-MODIFIED:20250616T085111Z
UID:79328-1756548000-1756558800@connecticutlifestyles.com
SUMMARY:The Bristol Farmers Market at 10 Main Street
DESCRIPTION:The Bristol Farmers Market returns for the 2025 season\, offering fresh\, locally grown food and handcrafted products each Saturday from June 21 through October 4. Operating from 10:00 a.m. to 1:00 p.m.\, the market takes place in the parking lot at 10 Main Street in Bristol\, CT. \nOrganized by The Bristol Farmers Market\, Inc. and supported by a dedicated board and volunteers\, the market is committed to building a sustainable platform that connects residents with local farmers and producers. Shoppers can expect a vibrant atmosphere featuring seasonal produce\, specialty goods\, and community-focused engagement. \nAdmission is free and open to all. For updates and vendor information\, visit thebristolfarmersmarket.com or follow the market on social media.
URL:https://connecticutlifestyles.com/event/the-bristol-farmers-market-at-10-main-street/2025-08-30/
LOCATION:Bristol Farmers Market\, 10 Main St.\, Bristol\, 06010\, United States
CATEGORIES:Bristol
ATTACH;FMTTYPE=image/jpeg:https://connecticutlifestyles.com/wp-content/uploads/2025/06/the-bristol-farmers-market-at-10-main-street.jpg
END:VEVENT
BEGIN:VEVENT
DTSTART;TZID=America/New_York:20250823T100000
DTEND;TZID=America/New_York:20250823T130000
DTSTAMP:20260421T125638
CREATED:20250616T085111Z
LAST-MODIFIED:20250616T085111Z
UID:79327-1755943200-1755954000@connecticutlifestyles.com
SUMMARY:The Bristol Farmers Market at 10 Main Street
DESCRIPTION:The Bristol Farmers Market returns for the 2025 season\, offering fresh\, locally grown food and handcrafted products each Saturday from June 21 through October 4. Operating from 10:00 a.m. to 1:00 p.m.\, the market takes place in the parking lot at 10 Main Street in Bristol\, CT. \nOrganized by The Bristol Farmers Market\, Inc. and supported by a dedicated board and volunteers\, the market is committed to building a sustainable platform that connects residents with local farmers and producers. Shoppers can expect a vibrant atmosphere featuring seasonal produce\, specialty goods\, and community-focused engagement. \nAdmission is free and open to all. For updates and vendor information\, visit thebristolfarmersmarket.com or follow the market on social media.
URL:https://connecticutlifestyles.com/event/the-bristol-farmers-market-at-10-main-street/2025-08-23/
LOCATION:Bristol Farmers Market\, 10 Main St.\, Bristol\, 06010\, United States
CATEGORIES:Bristol
ATTACH;FMTTYPE=image/jpeg:https://connecticutlifestyles.com/wp-content/uploads/2025/06/the-bristol-farmers-market-at-10-main-street.jpg
END:VEVENT
BEGIN:VEVENT
DTSTART;TZID=America/New_York:20250816T100000
DTEND;TZID=America/New_York:20250816T130000
DTSTAMP:20260421T125638
CREATED:20250616T085111Z
LAST-MODIFIED:20250616T085111Z
UID:79326-1755338400-1755349200@connecticutlifestyles.com
SUMMARY:The Bristol Farmers Market at 10 Main Street
DESCRIPTION:The Bristol Farmers Market returns for the 2025 season\, offering fresh\, locally grown food and handcrafted products each Saturday from June 21 through October 4. Operating from 10:00 a.m. to 1:00 p.m.\, the market takes place in the parking lot at 10 Main Street in Bristol\, CT. \nOrganized by The Bristol Farmers Market\, Inc. and supported by a dedicated board and volunteers\, the market is committed to building a sustainable platform that connects residents with local farmers and producers. Shoppers can expect a vibrant atmosphere featuring seasonal produce\, specialty goods\, and community-focused engagement. \nAdmission is free and open to all. For updates and vendor information\, visit thebristolfarmersmarket.com or follow the market on social media.
URL:https://connecticutlifestyles.com/event/the-bristol-farmers-market-at-10-main-street/2025-08-16/
LOCATION:Bristol Farmers Market\, 10 Main St.\, Bristol\, 06010\, United States
CATEGORIES:Bristol
ATTACH;FMTTYPE=image/jpeg:https://connecticutlifestyles.com/wp-content/uploads/2025/06/the-bristol-farmers-market-at-10-main-street.jpg
END:VEVENT
BEGIN:VEVENT
DTSTART;TZID=America/New_York:20250809T100000
DTEND;TZID=America/New_York:20250809T130000
DTSTAMP:20260421T125638
CREATED:20250616T085111Z
LAST-MODIFIED:20250616T085111Z
UID:79325-1754733600-1754744400@connecticutlifestyles.com
SUMMARY:The Bristol Farmers Market at 10 Main Street
DESCRIPTION:The Bristol Farmers Market returns for the 2025 season\, offering fresh\, locally grown food and handcrafted products each Saturday from June 21 through October 4. Operating from 10:00 a.m. to 1:00 p.m.\, the market takes place in the parking lot at 10 Main Street in Bristol\, CT. \nOrganized by The Bristol Farmers Market\, Inc. and supported by a dedicated board and volunteers\, the market is committed to building a sustainable platform that connects residents with local farmers and producers. Shoppers can expect a vibrant atmosphere featuring seasonal produce\, specialty goods\, and community-focused engagement. \nAdmission is free and open to all. For updates and vendor information\, visit thebristolfarmersmarket.com or follow the market on social media.
URL:https://connecticutlifestyles.com/event/the-bristol-farmers-market-at-10-main-street/2025-08-09/
LOCATION:Bristol Farmers Market\, 10 Main St.\, Bristol\, 06010\, United States
CATEGORIES:Bristol
ATTACH;FMTTYPE=image/jpeg:https://connecticutlifestyles.com/wp-content/uploads/2025/06/the-bristol-farmers-market-at-10-main-street.jpg
END:VEVENT
BEGIN:VEVENT
DTSTART;TZID=America/New_York:20250802T100000
DTEND;TZID=America/New_York:20250802T130000
DTSTAMP:20260421T125638
CREATED:20250616T085111Z
LAST-MODIFIED:20250616T085111Z
UID:79324-1754128800-1754139600@connecticutlifestyles.com
SUMMARY:The Bristol Farmers Market at 10 Main Street
DESCRIPTION:The Bristol Farmers Market returns for the 2025 season\, offering fresh\, locally grown food and handcrafted products each Saturday from June 21 through October 4. Operating from 10:00 a.m. to 1:00 p.m.\, the market takes place in the parking lot at 10 Main Street in Bristol\, CT. \nOrganized by The Bristol Farmers Market\, Inc. and supported by a dedicated board and volunteers\, the market is committed to building a sustainable platform that connects residents with local farmers and producers. Shoppers can expect a vibrant atmosphere featuring seasonal produce\, specialty goods\, and community-focused engagement. \nAdmission is free and open to all. For updates and vendor information\, visit thebristolfarmersmarket.com or follow the market on social media.
URL:https://connecticutlifestyles.com/event/the-bristol-farmers-market-at-10-main-street/2025-08-02/
LOCATION:Bristol Farmers Market\, 10 Main St.\, Bristol\, 06010\, United States
CATEGORIES:Bristol
ATTACH;FMTTYPE=image/jpeg:https://connecticutlifestyles.com/wp-content/uploads/2025/06/the-bristol-farmers-market-at-10-main-street.jpg
END:VEVENT
BEGIN:VEVENT
DTSTART;TZID=America/New_York:20250726T100000
DTEND;TZID=America/New_York:20250726T130000
DTSTAMP:20260421T125638
CREATED:20250616T085111Z
LAST-MODIFIED:20250616T085111Z
UID:79323-1753524000-1753534800@connecticutlifestyles.com
SUMMARY:The Bristol Farmers Market at 10 Main Street
DESCRIPTION:The Bristol Farmers Market returns for the 2025 season\, offering fresh\, locally grown food and handcrafted products each Saturday from June 21 through October 4. Operating from 10:00 a.m. to 1:00 p.m.\, the market takes place in the parking lot at 10 Main Street in Bristol\, CT. \nOrganized by The Bristol Farmers Market\, Inc. and supported by a dedicated board and volunteers\, the market is committed to building a sustainable platform that connects residents with local farmers and producers. Shoppers can expect a vibrant atmosphere featuring seasonal produce\, specialty goods\, and community-focused engagement. \nAdmission is free and open to all. For updates and vendor information\, visit thebristolfarmersmarket.com or follow the market on social media.
URL:https://connecticutlifestyles.com/event/the-bristol-farmers-market-at-10-main-street/2025-07-26/
LOCATION:Bristol Farmers Market\, 10 Main St.\, Bristol\, 06010\, United States
CATEGORIES:Bristol
ATTACH;FMTTYPE=image/jpeg:https://connecticutlifestyles.com/wp-content/uploads/2025/06/the-bristol-farmers-market-at-10-main-street.jpg
END:VEVENT
BEGIN:VEVENT
DTSTART;TZID=America/New_York:20250719T100000
DTEND;TZID=America/New_York:20250719T130000
DTSTAMP:20260421T125638
CREATED:20250616T085111Z
LAST-MODIFIED:20250616T085111Z
UID:79322-1752919200-1752930000@connecticutlifestyles.com
SUMMARY:The Bristol Farmers Market at 10 Main Street
DESCRIPTION:The Bristol Farmers Market returns for the 2025 season\, offering fresh\, locally grown food and handcrafted products each Saturday from June 21 through October 4. Operating from 10:00 a.m. to 1:00 p.m.\, the market takes place in the parking lot at 10 Main Street in Bristol\, CT. \nOrganized by The Bristol Farmers Market\, Inc. and supported by a dedicated board and volunteers\, the market is committed to building a sustainable platform that connects residents with local farmers and producers. Shoppers can expect a vibrant atmosphere featuring seasonal produce\, specialty goods\, and community-focused engagement. \nAdmission is free and open to all. For updates and vendor information\, visit thebristolfarmersmarket.com or follow the market on social media.
URL:https://connecticutlifestyles.com/event/the-bristol-farmers-market-at-10-main-street/2025-07-19/
LOCATION:Bristol Farmers Market\, 10 Main St.\, Bristol\, 06010\, United States
CATEGORIES:Bristol
ATTACH;FMTTYPE=image/jpeg:https://connecticutlifestyles.com/wp-content/uploads/2025/06/the-bristol-farmers-market-at-10-main-street.jpg
END:VEVENT
BEGIN:VEVENT
DTSTART;TZID=America/New_York:20250712T100000
DTEND;TZID=America/New_York:20250712T130000
DTSTAMP:20260421T125638
CREATED:20250616T085111Z
LAST-MODIFIED:20250616T085111Z
UID:79321-1752314400-1752325200@connecticutlifestyles.com
SUMMARY:The Bristol Farmers Market at 10 Main Street
DESCRIPTION:The Bristol Farmers Market returns for the 2025 season\, offering fresh\, locally grown food and handcrafted products each Saturday from June 21 through October 4. Operating from 10:00 a.m. to 1:00 p.m.\, the market takes place in the parking lot at 10 Main Street in Bristol\, CT. \nOrganized by The Bristol Farmers Market\, Inc. and supported by a dedicated board and volunteers\, the market is committed to building a sustainable platform that connects residents with local farmers and producers. Shoppers can expect a vibrant atmosphere featuring seasonal produce\, specialty goods\, and community-focused engagement. \nAdmission is free and open to all. For updates and vendor information\, visit thebristolfarmersmarket.com or follow the market on social media.
URL:https://connecticutlifestyles.com/event/the-bristol-farmers-market-at-10-main-street/2025-07-12/
LOCATION:Bristol Farmers Market\, 10 Main St.\, Bristol\, 06010\, United States
CATEGORIES:Bristol
ATTACH;FMTTYPE=image/jpeg:https://connecticutlifestyles.com/wp-content/uploads/2025/06/the-bristol-farmers-market-at-10-main-street.jpg
END:VEVENT
BEGIN:VEVENT
DTSTART;TZID=America/New_York:20250705T100000
DTEND;TZID=America/New_York:20250705T130000
DTSTAMP:20260421T125638
CREATED:20250616T085111Z
LAST-MODIFIED:20250616T085111Z
UID:79320-1751709600-1751720400@connecticutlifestyles.com
SUMMARY:The Bristol Farmers Market at 10 Main Street
DESCRIPTION:The Bristol Farmers Market returns for the 2025 season\, offering fresh\, locally grown food and handcrafted products each Saturday from June 21 through October 4. Operating from 10:00 a.m. to 1:00 p.m.\, the market takes place in the parking lot at 10 Main Street in Bristol\, CT. \nOrganized by The Bristol Farmers Market\, Inc. and supported by a dedicated board and volunteers\, the market is committed to building a sustainable platform that connects residents with local farmers and producers. Shoppers can expect a vibrant atmosphere featuring seasonal produce\, specialty goods\, and community-focused engagement. \nAdmission is free and open to all. For updates and vendor information\, visit thebristolfarmersmarket.com or follow the market on social media.
URL:https://connecticutlifestyles.com/event/the-bristol-farmers-market-at-10-main-street/2025-07-05/
LOCATION:Bristol Farmers Market\, 10 Main St.\, Bristol\, 06010\, United States
CATEGORIES:Bristol
ATTACH;FMTTYPE=image/jpeg:https://connecticutlifestyles.com/wp-content/uploads/2025/06/the-bristol-farmers-market-at-10-main-street.jpg
END:VEVENT
BEGIN:VEVENT
DTSTART;TZID=America/New_York:20250628T100000
DTEND;TZID=America/New_York:20250628T130000
DTSTAMP:20260421T125638
CREATED:20250616T085111Z
LAST-MODIFIED:20250616T085111Z
UID:79319-1751104800-1751115600@connecticutlifestyles.com
SUMMARY:The Bristol Farmers Market at 10 Main Street
DESCRIPTION:The Bristol Farmers Market returns for the 2025 season\, offering fresh\, locally grown food and handcrafted products each Saturday from June 21 through October 4. Operating from 10:00 a.m. to 1:00 p.m.\, the market takes place in the parking lot at 10 Main Street in Bristol\, CT. \nOrganized by The Bristol Farmers Market\, Inc. and supported by a dedicated board and volunteers\, the market is committed to building a sustainable platform that connects residents with local farmers and producers. Shoppers can expect a vibrant atmosphere featuring seasonal produce\, specialty goods\, and community-focused engagement. \nAdmission is free and open to all. For updates and vendor information\, visit thebristolfarmersmarket.com or follow the market on social media.
URL:https://connecticutlifestyles.com/event/the-bristol-farmers-market-at-10-main-street/2025-06-28/
LOCATION:Bristol Farmers Market\, 10 Main St.\, Bristol\, 06010\, United States
CATEGORIES:Bristol
ATTACH;FMTTYPE=image/jpeg:https://connecticutlifestyles.com/wp-content/uploads/2025/06/the-bristol-farmers-market-at-10-main-street.jpg
END:VEVENT
BEGIN:VEVENT
DTSTART;TZID=America/New_York:20250621T100000
DTEND;TZID=America/New_York:20250621T130000
DTSTAMP:20260421T125638
CREATED:20250616T085111Z
LAST-MODIFIED:20250616T085111Z
UID:79316-1750500000-1750510800@connecticutlifestyles.com
SUMMARY:The Bristol Farmers Market at 10 Main Street
DESCRIPTION:The Bristol Farmers Market returns for the 2025 season\, offering fresh\, locally grown food and handcrafted products each Saturday from June 21 through October 4. Operating from 10:00 a.m. to 1:00 p.m.\, the market takes place in the parking lot at 10 Main Street in Bristol\, CT. \nOrganized by The Bristol Farmers Market\, Inc. and supported by a dedicated board and volunteers\, the market is committed to building a sustainable platform that connects residents with local farmers and producers. Shoppers can expect a vibrant atmosphere featuring seasonal produce\, specialty goods\, and community-focused engagement. \nAdmission is free and open to all. For updates and vendor information\, visit thebristolfarmersmarket.com or follow the market on social media.
URL:https://connecticutlifestyles.com/event/the-bristol-farmers-market-at-10-main-street/2025-06-21/
LOCATION:Bristol Farmers Market\, 10 Main St.\, Bristol\, 06010\, United States
CATEGORIES:Bristol
ATTACH;FMTTYPE=image/jpeg:https://connecticutlifestyles.com/wp-content/uploads/2025/06/the-bristol-farmers-market-at-10-main-street.jpg
END:VEVENT
END:VCALENDAR