BEGIN:VCALENDAR
VERSION:2.0
PRODID:-//ConnecticutLifestyles.com - ECPv6.15.20//NONSGML v1.0//EN
CALSCALE:GREGORIAN
METHOD:PUBLISH
X-ORIGINAL-URL:https://connecticutlifestyles.com
X-WR-CALDESC:Events for ConnecticutLifestyles.com
REFRESH-INTERVAL;VALUE=DURATION:PT1H
X-Robots-Tag:noindex
X-PUBLISHED-TTL:PT1H
BEGIN:VTIMEZONE
TZID:America/New_York
BEGIN:DAYLIGHT
TZOFFSETFROM:-0500
TZOFFSETTO:-0400
TZNAME:EDT
DTSTART:20240310T070000
END:DAYLIGHT
BEGIN:STANDARD
TZOFFSETFROM:-0400
TZOFFSETTO:-0500
TZNAME:EST
DTSTART:20241103T060000
END:STANDARD
BEGIN:DAYLIGHT
TZOFFSETFROM:-0500
TZOFFSETTO:-0400
TZNAME:EDT
DTSTART:20250309T070000
END:DAYLIGHT
BEGIN:STANDARD
TZOFFSETFROM:-0400
TZOFFSETTO:-0500
TZNAME:EST
DTSTART:20251102T060000
END:STANDARD
BEGIN:DAYLIGHT
TZOFFSETFROM:-0500
TZOFFSETTO:-0400
TZNAME:EDT
DTSTART:20260308T070000
END:DAYLIGHT
BEGIN:STANDARD
TZOFFSETFROM:-0400
TZOFFSETTO:-0500
TZNAME:EST
DTSTART:20261101T060000
END:STANDARD
END:VTIMEZONE
BEGIN:VEVENT
DTSTART;TZID=America/New_York:20250612T180000
DTEND;TZID=America/New_York:20250612T193000
DTSTAMP:20260421T194256
CREATED:20250507T023844Z
LAST-MODIFIED:20250507T023844Z
UID:78232-1749751200-1749756600@connecticutlifestyles.com
SUMMARY:Create Community: Turner’s Vision with Watercolor at Yale Center for British Art
DESCRIPTION:Explore the world through the eyes of J. M. W. Turner in a three-part watercolor workshop at the Yale Center for British Art in New Haven. Create Community: Turner’s Vision with Watercolor invites adults of all skill levels to delve into the artist’s process and perspective by studying his evocative landscapes featured in the exhibition J. M. W. Turner: Romance and Reality. \nParticipants will observe Turner’s watercolors in the galleries and create their own works using watercolor techniques that emphasize atmosphere\, movement\, and light. The sessions will encourage new ways of seeing and capturing the world around us. \nThe workshop series will be held on Thursdays—May 15\, May 22\, and June 12—from 6 to 7:30 pm. All materials are provided\, and space is limited to 12 participants. Registration is required. \nThe Yale Center for British Art is located at 1080 Chapel Street\, New Haven\, CT 06510. \nFor registration and additional information\, visit britishart.yale.edu or contact ycba.info@yale.edu.
URL:https://connecticutlifestyles.com/event/create-community-turners-vision-with-watercolor-at-yale-center-for-british-art/2025-06-12/
LOCATION:Yale Center for British Art\, 1080 Chapel Street\, New Haven\, CT\, 06511
CATEGORIES:New Haven
ATTACH;FMTTYPE=image/jpeg:https://connecticutlifestyles.com/wp-content/uploads/2025/05/create-community-turners-vision-with-watercolor-at-yale-center-for-british-art.jpg
GEO:41.3078836;-72.930874
X-APPLE-STRUCTURED-LOCATION;VALUE=URI;X-ADDRESS=Yale Center for British Art 1080 Chapel Street New Haven CT 06511;X-APPLE-RADIUS=500;X-TITLE=1080 Chapel Street:geo:-72.930874,41.3078836
END:VEVENT
BEGIN:VEVENT
DTSTART;TZID=America/New_York:20250522T180000
DTEND;TZID=America/New_York:20250522T193000
DTSTAMP:20260421T194256
CREATED:20250507T023844Z
LAST-MODIFIED:20250507T023844Z
UID:78231-1747936800-1747942200@connecticutlifestyles.com
SUMMARY:Create Community: Turner’s Vision with Watercolor at Yale Center for British Art
DESCRIPTION:Explore the world through the eyes of J. M. W. Turner in a three-part watercolor workshop at the Yale Center for British Art in New Haven. Create Community: Turner’s Vision with Watercolor invites adults of all skill levels to delve into the artist’s process and perspective by studying his evocative landscapes featured in the exhibition J. M. W. Turner: Romance and Reality. \nParticipants will observe Turner’s watercolors in the galleries and create their own works using watercolor techniques that emphasize atmosphere\, movement\, and light. The sessions will encourage new ways of seeing and capturing the world around us. \nThe workshop series will be held on Thursdays—May 15\, May 22\, and June 12—from 6 to 7:30 pm. All materials are provided\, and space is limited to 12 participants. Registration is required. \nThe Yale Center for British Art is located at 1080 Chapel Street\, New Haven\, CT 06510. \nFor registration and additional information\, visit britishart.yale.edu or contact ycba.info@yale.edu.
URL:https://connecticutlifestyles.com/event/create-community-turners-vision-with-watercolor-at-yale-center-for-british-art/2025-05-22/
LOCATION:Yale Center for British Art\, 1080 Chapel Street\, New Haven\, CT\, 06511
CATEGORIES:New Haven
ATTACH;FMTTYPE=image/jpeg:https://connecticutlifestyles.com/wp-content/uploads/2025/05/create-community-turners-vision-with-watercolor-at-yale-center-for-british-art.jpg
GEO:41.3078836;-72.930874
X-APPLE-STRUCTURED-LOCATION;VALUE=URI;X-ADDRESS=Yale Center for British Art 1080 Chapel Street New Haven CT 06511;X-APPLE-RADIUS=500;X-TITLE=1080 Chapel Street:geo:-72.930874,41.3078836
END:VEVENT
BEGIN:VEVENT
DTSTART;TZID=America/New_York:20250515T180000
DTEND;TZID=America/New_York:20250515T193000
DTSTAMP:20260421T194256
CREATED:20250507T023844Z
LAST-MODIFIED:20250507T023844Z
UID:78229-1747332000-1747337400@connecticutlifestyles.com
SUMMARY:Create Community: Turner’s Vision with Watercolor at Yale Center for British Art
DESCRIPTION:Explore the world through the eyes of J. M. W. Turner in a three-part watercolor workshop at the Yale Center for British Art in New Haven. Create Community: Turner’s Vision with Watercolor invites adults of all skill levels to delve into the artist’s process and perspective by studying his evocative landscapes featured in the exhibition J. M. W. Turner: Romance and Reality. \nParticipants will observe Turner’s watercolors in the galleries and create their own works using watercolor techniques that emphasize atmosphere\, movement\, and light. The sessions will encourage new ways of seeing and capturing the world around us. \nThe workshop series will be held on Thursdays—May 15\, May 22\, and June 12—from 6 to 7:30 pm. All materials are provided\, and space is limited to 12 participants. Registration is required. \nThe Yale Center for British Art is located at 1080 Chapel Street\, New Haven\, CT 06510. \nFor registration and additional information\, visit britishart.yale.edu or contact ycba.info@yale.edu.
URL:https://connecticutlifestyles.com/event/create-community-turners-vision-with-watercolor-at-yale-center-for-british-art/2025-05-15/
LOCATION:Yale Center for British Art\, 1080 Chapel Street\, New Haven\, CT\, 06511
CATEGORIES:New Haven
ATTACH;FMTTYPE=image/jpeg:https://connecticutlifestyles.com/wp-content/uploads/2025/05/create-community-turners-vision-with-watercolor-at-yale-center-for-british-art.jpg
GEO:41.3078836;-72.930874
X-APPLE-STRUCTURED-LOCATION;VALUE=URI;X-ADDRESS=Yale Center for British Art 1080 Chapel Street New Haven CT 06511;X-APPLE-RADIUS=500;X-TITLE=1080 Chapel Street:geo:-72.930874,41.3078836
END:VEVENT
END:VCALENDAR