BEGIN:VCALENDAR
VERSION:2.0
PRODID:-//ConnecticutLifestyles.com - ECPv6.15.20//NONSGML v1.0//EN
CALSCALE:GREGORIAN
METHOD:PUBLISH
X-WR-CALNAME:ConnecticutLifestyles.com
X-ORIGINAL-URL:https://connecticutlifestyles.com
X-WR-CALDESC:Events for ConnecticutLifestyles.com
REFRESH-INTERVAL;VALUE=DURATION:PT1H
X-Robots-Tag:noindex
X-PUBLISHED-TTL:PT1H
BEGIN:VTIMEZONE
TZID:America/New_York
BEGIN:DAYLIGHT
TZOFFSETFROM:-0500
TZOFFSETTO:-0400
TZNAME:EDT
DTSTART:20240310T070000
END:DAYLIGHT
BEGIN:STANDARD
TZOFFSETFROM:-0400
TZOFFSETTO:-0500
TZNAME:EST
DTSTART:20241103T060000
END:STANDARD
BEGIN:DAYLIGHT
TZOFFSETFROM:-0500
TZOFFSETTO:-0400
TZNAME:EDT
DTSTART:20250309T070000
END:DAYLIGHT
BEGIN:STANDARD
TZOFFSETFROM:-0400
TZOFFSETTO:-0500
TZNAME:EST
DTSTART:20251102T060000
END:STANDARD
BEGIN:DAYLIGHT
TZOFFSETFROM:-0500
TZOFFSETTO:-0400
TZNAME:EDT
DTSTART:20260308T070000
END:DAYLIGHT
BEGIN:STANDARD
TZOFFSETFROM:-0400
TZOFFSETTO:-0500
TZNAME:EST
DTSTART:20261101T060000
END:STANDARD
END:VTIMEZONE
BEGIN:VEVENT
DTSTART;TZID=America/New_York:20251227T163000
DTEND;TZID=America/New_York:20251227T193000
DTSTAMP:20260421T202833
CREATED:20251212T062446Z
LAST-MODIFIED:20251212T062446Z
UID:85093-1766853000-1766863800@connecticutlifestyles.com
SUMMARY:Acoustic Sundays at Comix Roadhouse
DESCRIPTION:Acoustic Sundays bring a relaxed evening of live music to Comix Roadhouse in Uncasville\, with local and regional artists performing acoustic versions of country\, rock\, and pop favorites. Guests can enjoy the laid-back atmosphere while listening to stripped-down sets\, grabbing a drink\, or settling in for a casual meal. Each week features a different performer\, creating an easygoing way to wrap up the weekend. \nPerformances begin at 4:30 pm. December features Aaron Weber from December 4 to 6\, Mike Hanley from December 11 to 13\, Josh Adam Meyers from December 18 to 20\, Mike Koutrobis from December 26 to 27\, and a New Year’s Eve show on December 31. \nComix Roadhouse is located at 1 Mohegan Sun Boulevard\, Uncasville\, Connecticut. For more details and performer information\, visit the venue’s website.
URL:https://connecticutlifestyles.com/event/acoustic-sundays-at-comix-roadhouse-2/2025-12-27/
LOCATION:Comix Roadhouse\, 1 Mohegan Sun Boulevard\, Uncasville\, 06382\, United States
CATEGORIES:Uncasville
ATTACH;FMTTYPE=image/jpeg:https://connecticutlifestyles.com/wp-content/uploads/2025/12/acoustic-sundays-at-comix-roadhouse.jpg
END:VEVENT
BEGIN:VEVENT
DTSTART;TZID=America/New_York:20251226T163000
DTEND;TZID=America/New_York:20251226T193000
DTSTAMP:20260421T202833
CREATED:20251212T062446Z
LAST-MODIFIED:20251212T062446Z
UID:85092-1766766600-1766777400@connecticutlifestyles.com
SUMMARY:Acoustic Sundays at Comix Roadhouse
DESCRIPTION:Acoustic Sundays bring a relaxed evening of live music to Comix Roadhouse in Uncasville\, with local and regional artists performing acoustic versions of country\, rock\, and pop favorites. Guests can enjoy the laid-back atmosphere while listening to stripped-down sets\, grabbing a drink\, or settling in for a casual meal. Each week features a different performer\, creating an easygoing way to wrap up the weekend. \nPerformances begin at 4:30 pm. December features Aaron Weber from December 4 to 6\, Mike Hanley from December 11 to 13\, Josh Adam Meyers from December 18 to 20\, Mike Koutrobis from December 26 to 27\, and a New Year’s Eve show on December 31. \nComix Roadhouse is located at 1 Mohegan Sun Boulevard\, Uncasville\, Connecticut. For more details and performer information\, visit the venue’s website.
URL:https://connecticutlifestyles.com/event/acoustic-sundays-at-comix-roadhouse-2/2025-12-26/
LOCATION:Comix Roadhouse\, 1 Mohegan Sun Boulevard\, Uncasville\, 06382\, United States
CATEGORIES:Uncasville
ATTACH;FMTTYPE=image/jpeg:https://connecticutlifestyles.com/wp-content/uploads/2025/12/acoustic-sundays-at-comix-roadhouse.jpg
END:VEVENT
BEGIN:VEVENT
DTSTART;TZID=America/New_York:20251220T163000
DTEND;TZID=America/New_York:20251220T193000
DTSTAMP:20260421T202833
CREATED:20251212T062446Z
LAST-MODIFIED:20251212T062446Z
UID:85091-1766248200-1766259000@connecticutlifestyles.com
SUMMARY:Acoustic Sundays at Comix Roadhouse
DESCRIPTION:Acoustic Sundays bring a relaxed evening of live music to Comix Roadhouse in Uncasville\, with local and regional artists performing acoustic versions of country\, rock\, and pop favorites. Guests can enjoy the laid-back atmosphere while listening to stripped-down sets\, grabbing a drink\, or settling in for a casual meal. Each week features a different performer\, creating an easygoing way to wrap up the weekend. \nPerformances begin at 4:30 pm. December features Aaron Weber from December 4 to 6\, Mike Hanley from December 11 to 13\, Josh Adam Meyers from December 18 to 20\, Mike Koutrobis from December 26 to 27\, and a New Year’s Eve show on December 31. \nComix Roadhouse is located at 1 Mohegan Sun Boulevard\, Uncasville\, Connecticut. For more details and performer information\, visit the venue’s website.
URL:https://connecticutlifestyles.com/event/acoustic-sundays-at-comix-roadhouse-2/2025-12-20/
LOCATION:Comix Roadhouse\, 1 Mohegan Sun Boulevard\, Uncasville\, 06382\, United States
CATEGORIES:Uncasville
ATTACH;FMTTYPE=image/jpeg:https://connecticutlifestyles.com/wp-content/uploads/2025/12/acoustic-sundays-at-comix-roadhouse.jpg
END:VEVENT
BEGIN:VEVENT
DTSTART;TZID=America/New_York:20251219T163000
DTEND;TZID=America/New_York:20251219T193000
DTSTAMP:20260421T202833
CREATED:20251212T062446Z
LAST-MODIFIED:20251212T062446Z
UID:85090-1766161800-1766172600@connecticutlifestyles.com
SUMMARY:Acoustic Sundays at Comix Roadhouse
DESCRIPTION:Acoustic Sundays bring a relaxed evening of live music to Comix Roadhouse in Uncasville\, with local and regional artists performing acoustic versions of country\, rock\, and pop favorites. Guests can enjoy the laid-back atmosphere while listening to stripped-down sets\, grabbing a drink\, or settling in for a casual meal. Each week features a different performer\, creating an easygoing way to wrap up the weekend. \nPerformances begin at 4:30 pm. December features Aaron Weber from December 4 to 6\, Mike Hanley from December 11 to 13\, Josh Adam Meyers from December 18 to 20\, Mike Koutrobis from December 26 to 27\, and a New Year’s Eve show on December 31. \nComix Roadhouse is located at 1 Mohegan Sun Boulevard\, Uncasville\, Connecticut. For more details and performer information\, visit the venue’s website.
URL:https://connecticutlifestyles.com/event/acoustic-sundays-at-comix-roadhouse-2/2025-12-19/
LOCATION:Comix Roadhouse\, 1 Mohegan Sun Boulevard\, Uncasville\, 06382\, United States
CATEGORIES:Uncasville
ATTACH;FMTTYPE=image/jpeg:https://connecticutlifestyles.com/wp-content/uploads/2025/12/acoustic-sundays-at-comix-roadhouse.jpg
END:VEVENT
BEGIN:VEVENT
DTSTART;TZID=America/New_York:20251218T163000
DTEND;TZID=America/New_York:20251218T193000
DTSTAMP:20260421T202833
CREATED:20251212T062446Z
LAST-MODIFIED:20251212T062446Z
UID:85089-1766075400-1766086200@connecticutlifestyles.com
SUMMARY:Acoustic Sundays at Comix Roadhouse
DESCRIPTION:Acoustic Sundays bring a relaxed evening of live music to Comix Roadhouse in Uncasville\, with local and regional artists performing acoustic versions of country\, rock\, and pop favorites. Guests can enjoy the laid-back atmosphere while listening to stripped-down sets\, grabbing a drink\, or settling in for a casual meal. Each week features a different performer\, creating an easygoing way to wrap up the weekend. \nPerformances begin at 4:30 pm. December features Aaron Weber from December 4 to 6\, Mike Hanley from December 11 to 13\, Josh Adam Meyers from December 18 to 20\, Mike Koutrobis from December 26 to 27\, and a New Year’s Eve show on December 31. \nComix Roadhouse is located at 1 Mohegan Sun Boulevard\, Uncasville\, Connecticut. For more details and performer information\, visit the venue’s website.
URL:https://connecticutlifestyles.com/event/acoustic-sundays-at-comix-roadhouse-2/2025-12-18/
LOCATION:Comix Roadhouse\, 1 Mohegan Sun Boulevard\, Uncasville\, 06382\, United States
CATEGORIES:Uncasville
ATTACH;FMTTYPE=image/jpeg:https://connecticutlifestyles.com/wp-content/uploads/2025/12/acoustic-sundays-at-comix-roadhouse.jpg
END:VEVENT
BEGIN:VEVENT
DTSTART;TZID=America/New_York:20251213T163000
DTEND;TZID=America/New_York:20251213T193000
DTSTAMP:20260421T202833
CREATED:20251212T062446Z
LAST-MODIFIED:20251212T062446Z
UID:85088-1765643400-1765654200@connecticutlifestyles.com
SUMMARY:Acoustic Sundays at Comix Roadhouse
DESCRIPTION:Acoustic Sundays bring a relaxed evening of live music to Comix Roadhouse in Uncasville\, with local and regional artists performing acoustic versions of country\, rock\, and pop favorites. Guests can enjoy the laid-back atmosphere while listening to stripped-down sets\, grabbing a drink\, or settling in for a casual meal. Each week features a different performer\, creating an easygoing way to wrap up the weekend. \nPerformances begin at 4:30 pm. December features Aaron Weber from December 4 to 6\, Mike Hanley from December 11 to 13\, Josh Adam Meyers from December 18 to 20\, Mike Koutrobis from December 26 to 27\, and a New Year’s Eve show on December 31. \nComix Roadhouse is located at 1 Mohegan Sun Boulevard\, Uncasville\, Connecticut. For more details and performer information\, visit the venue’s website.
URL:https://connecticutlifestyles.com/event/acoustic-sundays-at-comix-roadhouse-2/2025-12-13/
LOCATION:Comix Roadhouse\, 1 Mohegan Sun Boulevard\, Uncasville\, 06382\, United States
CATEGORIES:Uncasville
ATTACH;FMTTYPE=image/jpeg:https://connecticutlifestyles.com/wp-content/uploads/2025/12/acoustic-sundays-at-comix-roadhouse.jpg
END:VEVENT
BEGIN:VEVENT
DTSTART;TZID=America/New_York:20251212T163000
DTEND;TZID=America/New_York:20251212T193000
DTSTAMP:20260421T202833
CREATED:20251212T062446Z
LAST-MODIFIED:20251212T062446Z
UID:85087-1765557000-1765567800@connecticutlifestyles.com
SUMMARY:Acoustic Sundays at Comix Roadhouse
DESCRIPTION:Acoustic Sundays bring a relaxed evening of live music to Comix Roadhouse in Uncasville\, with local and regional artists performing acoustic versions of country\, rock\, and pop favorites. Guests can enjoy the laid-back atmosphere while listening to stripped-down sets\, grabbing a drink\, or settling in for a casual meal. Each week features a different performer\, creating an easygoing way to wrap up the weekend. \nPerformances begin at 4:30 pm. December features Aaron Weber from December 4 to 6\, Mike Hanley from December 11 to 13\, Josh Adam Meyers from December 18 to 20\, Mike Koutrobis from December 26 to 27\, and a New Year’s Eve show on December 31. \nComix Roadhouse is located at 1 Mohegan Sun Boulevard\, Uncasville\, Connecticut. For more details and performer information\, visit the venue’s website.
URL:https://connecticutlifestyles.com/event/acoustic-sundays-at-comix-roadhouse-2/2025-12-12/
LOCATION:Comix Roadhouse\, 1 Mohegan Sun Boulevard\, Uncasville\, 06382\, United States
CATEGORIES:Uncasville
ATTACH;FMTTYPE=image/jpeg:https://connecticutlifestyles.com/wp-content/uploads/2025/12/acoustic-sundays-at-comix-roadhouse.jpg
END:VEVENT
BEGIN:VEVENT
DTSTART;TZID=America/New_York:20251211T163000
DTEND;TZID=America/New_York:20251211T193000
DTSTAMP:20260421T202833
CREATED:20251212T062446Z
LAST-MODIFIED:20251212T062446Z
UID:85086-1765470600-1765481400@connecticutlifestyles.com
SUMMARY:Acoustic Sundays at Comix Roadhouse
DESCRIPTION:Acoustic Sundays bring a relaxed evening of live music to Comix Roadhouse in Uncasville\, with local and regional artists performing acoustic versions of country\, rock\, and pop favorites. Guests can enjoy the laid-back atmosphere while listening to stripped-down sets\, grabbing a drink\, or settling in for a casual meal. Each week features a different performer\, creating an easygoing way to wrap up the weekend. \nPerformances begin at 4:30 pm. December features Aaron Weber from December 4 to 6\, Mike Hanley from December 11 to 13\, Josh Adam Meyers from December 18 to 20\, Mike Koutrobis from December 26 to 27\, and a New Year’s Eve show on December 31. \nComix Roadhouse is located at 1 Mohegan Sun Boulevard\, Uncasville\, Connecticut. For more details and performer information\, visit the venue’s website.
URL:https://connecticutlifestyles.com/event/acoustic-sundays-at-comix-roadhouse-2/2025-12-11/
LOCATION:Comix Roadhouse\, 1 Mohegan Sun Boulevard\, Uncasville\, 06382\, United States
CATEGORIES:Uncasville
ATTACH;FMTTYPE=image/jpeg:https://connecticutlifestyles.com/wp-content/uploads/2025/12/acoustic-sundays-at-comix-roadhouse.jpg
END:VEVENT
BEGIN:VEVENT
DTSTART;TZID=America/New_York:20251206T163000
DTEND;TZID=America/New_York:20251206T193000
DTSTAMP:20260421T202833
CREATED:20251212T062446Z
LAST-MODIFIED:20251212T062446Z
UID:85085-1765038600-1765049400@connecticutlifestyles.com
SUMMARY:Acoustic Sundays at Comix Roadhouse
DESCRIPTION:Acoustic Sundays bring a relaxed evening of live music to Comix Roadhouse in Uncasville\, with local and regional artists performing acoustic versions of country\, rock\, and pop favorites. Guests can enjoy the laid-back atmosphere while listening to stripped-down sets\, grabbing a drink\, or settling in for a casual meal. Each week features a different performer\, creating an easygoing way to wrap up the weekend. \nPerformances begin at 4:30 pm. December features Aaron Weber from December 4 to 6\, Mike Hanley from December 11 to 13\, Josh Adam Meyers from December 18 to 20\, Mike Koutrobis from December 26 to 27\, and a New Year’s Eve show on December 31. \nComix Roadhouse is located at 1 Mohegan Sun Boulevard\, Uncasville\, Connecticut. For more details and performer information\, visit the venue’s website.
URL:https://connecticutlifestyles.com/event/acoustic-sundays-at-comix-roadhouse-2/2025-12-06/
LOCATION:Comix Roadhouse\, 1 Mohegan Sun Boulevard\, Uncasville\, 06382\, United States
CATEGORIES:Uncasville
ATTACH;FMTTYPE=image/jpeg:https://connecticutlifestyles.com/wp-content/uploads/2025/12/acoustic-sundays-at-comix-roadhouse.jpg
END:VEVENT
BEGIN:VEVENT
DTSTART;TZID=America/New_York:20251205T163000
DTEND;TZID=America/New_York:20251205T193000
DTSTAMP:20260421T202833
CREATED:20251212T062446Z
LAST-MODIFIED:20251212T062446Z
UID:85084-1764952200-1764963000@connecticutlifestyles.com
SUMMARY:Acoustic Sundays at Comix Roadhouse
DESCRIPTION:Acoustic Sundays bring a relaxed evening of live music to Comix Roadhouse in Uncasville\, with local and regional artists performing acoustic versions of country\, rock\, and pop favorites. Guests can enjoy the laid-back atmosphere while listening to stripped-down sets\, grabbing a drink\, or settling in for a casual meal. Each week features a different performer\, creating an easygoing way to wrap up the weekend. \nPerformances begin at 4:30 pm. December features Aaron Weber from December 4 to 6\, Mike Hanley from December 11 to 13\, Josh Adam Meyers from December 18 to 20\, Mike Koutrobis from December 26 to 27\, and a New Year’s Eve show on December 31. \nComix Roadhouse is located at 1 Mohegan Sun Boulevard\, Uncasville\, Connecticut. For more details and performer information\, visit the venue’s website.
URL:https://connecticutlifestyles.com/event/acoustic-sundays-at-comix-roadhouse-2/2025-12-05/
LOCATION:Comix Roadhouse\, 1 Mohegan Sun Boulevard\, Uncasville\, 06382\, United States
CATEGORIES:Uncasville
ATTACH;FMTTYPE=image/jpeg:https://connecticutlifestyles.com/wp-content/uploads/2025/12/acoustic-sundays-at-comix-roadhouse.jpg
END:VEVENT
BEGIN:VEVENT
DTSTART;TZID=America/New_York:20251204T163000
DTEND;TZID=America/New_York:20251204T193000
DTSTAMP:20260421T202833
CREATED:20251212T062446Z
LAST-MODIFIED:20251212T062446Z
UID:85082-1764865800-1764876600@connecticutlifestyles.com
SUMMARY:Acoustic Sundays at Comix Roadhouse
DESCRIPTION:Acoustic Sundays bring a relaxed evening of live music to Comix Roadhouse in Uncasville\, with local and regional artists performing acoustic versions of country\, rock\, and pop favorites. Guests can enjoy the laid-back atmosphere while listening to stripped-down sets\, grabbing a drink\, or settling in for a casual meal. Each week features a different performer\, creating an easygoing way to wrap up the weekend. \nPerformances begin at 4:30 pm. December features Aaron Weber from December 4 to 6\, Mike Hanley from December 11 to 13\, Josh Adam Meyers from December 18 to 20\, Mike Koutrobis from December 26 to 27\, and a New Year’s Eve show on December 31. \nComix Roadhouse is located at 1 Mohegan Sun Boulevard\, Uncasville\, Connecticut. For more details and performer information\, visit the venue’s website.
URL:https://connecticutlifestyles.com/event/acoustic-sundays-at-comix-roadhouse-2/2025-12-04/
LOCATION:Comix Roadhouse\, 1 Mohegan Sun Boulevard\, Uncasville\, 06382\, United States
CATEGORIES:Uncasville
ATTACH;FMTTYPE=image/jpeg:https://connecticutlifestyles.com/wp-content/uploads/2025/12/acoustic-sundays-at-comix-roadhouse.jpg
END:VEVENT
END:VCALENDAR